BEGIN:VCALENDAR
METHOD:PUBLISH
VERSION:2.0
CALSCALE:GREGORIAN
PRODID:-//NONSGML WPForms//NONSGML Sugar Calendar Feeds v3.11.0//EN
X-WR-CALNAME:Literacy Summit: The Power of the Page
X-WR-CALDESC:Reading Horizons
X-WR-TIMEZONE:UTC
BEGIN:VTIMEZONE
TZID:UTC
BEGIN:STANDARD
TZOFFSETFROM:+0000
TZOFFSETTO:+0000
DTSTART:20251126T120000
TZNAME:UTC
END:STANDARD
END:VTIMEZONE
BEGIN:VTIMEZONE
TZID:UTC
BEGIN:STANDARD
TZOFFSETFROM:+0000
TZOFFSETTO:+0000
DTSTART:20251126T120000
TZNAME:UTC
END:STANDARD
END:VTIMEZONE
BEGIN:VEVENT
SUMMARY:Literacy Summit: The Power of the Page
DESCRIPTION:
URL;VALUE=URI:https://readinghorizons.com/events/literacy-summit-the-pow
 er-of-the-page/
UID:urn:uuid:d9aeb56d-fdcf-4bfd-a9fc-eb3ebad6c138
STATUS:CONFIRMED
ORGANIZER:
DTSTAMP:20260425T162531Z
DTSTART;VALUE=DATE:20260528
LOCATION:110 Inner Campus Drive
END:VEVENT
END:VCALENDAR