BEGIN:VCALENDAR
METHOD:PUBLISH
VERSION:2.0
CALSCALE:GREGORIAN
PRODID:-//NONSGML WPForms//NONSGML Sugar Calendar Feeds v3.11.0//EN
X-WR-CALNAME:Literacy in Transition Webinar with edWeb
X-WR-CALDESC:Reading Horizons
X-WR-TIMEZONE:UTC
BEGIN:VTIMEZONE
TZID:UTC
BEGIN:STANDARD
TZOFFSETFROM:+0000
TZOFFSETTO:+0000
DTSTART:20251104T040000
TZNAME:UTC
END:STANDARD
END:VTIMEZONE
BEGIN:VTIMEZONE
TZID:America/Toronto
BEGIN:DAYLIGHT
TZOFFSETFROM:-0500
TZOFFSETTO:-0400
DTSTART:20260308T070000
TZNAME:EDT
END:DAYLIGHT
END:VTIMEZONE
BEGIN:VEVENT
SUMMARY:Literacy in Transition Webinar with edWeb
DESCRIPTION:Join us for an upcoming edWebinar\, Literacy in Transition: 
 Research on What’s Working\, What’s Missing\, and What’s Next.\nBa
 sed on insights from a 2026 National survey of 2\,600 educators across 4
 9 states\, this webinar captures what educators are experiencing firstha
 nd—highlighting what’s working\, where gaps remain\, and what’s ah
 ead.\nIn this session\, Dr. Shantell Berrett Blake of Reading Horizons a
 nd implementation scientist\, and literacy consultant Dr. Megan Gierka w
 ill share key takeaways to help you better understand and sustain effect
 ive literacy practices—grounded in what educators are seeing and sayin
 g.\nYou’ll learn:\n\n 	The evolving role of AI in literacy instruction
 \n 	Key challenges\, including secondary literacy gaps and educator supp
 ort\n 	How structured literacy is being implemented across schools\n 	Em
 erging trends across the EPIS framework\n\n\n\nYou’ll leave with clear
 \, educator-informed insights to guide your next steps.\n\n\n\nTuesday\,
  May 5th at 4:00pm ET\n45-minute session
URL;VALUE=URI:https://readinghorizons.com/events/literacy-in-transition-
 webinar-with-edweb/
UID:urn:uuid:d5ee98f4-4c36-4a51-8035-8cdf5600489c
STATUS:CONFIRMED
ORGANIZER:
DTSTAMP:20260425T162351Z
DTSTART;TZID=America/Toronto:20260505T160000
DTEND;TZID=America/Toronto:20260505T164500
END:VEVENT
END:VCALENDAR